BEGIN:VCALENDAR
VERSION:2.0
PRODID:-//Colombo Colts Cricket Club - ECPv5.9.1//NONSGML v1.0//EN
CALSCALE:GREGORIAN
METHOD:PUBLISH
X-WR-CALNAME:Colombo Colts Cricket Club
X-ORIGINAL-URL:https://colombocolts.lk
X-WR-CALDESC:Events for Colombo Colts Cricket Club
BEGIN:VTIMEZONE
TZID:UTC
BEGIN:STANDARD
TZOFFSETFROM:+0000
TZOFFSETTO:+0000
TZNAME:UTC
DTSTART:20250101T000000
END:STANDARD
END:VTIMEZONE
BEGIN:VEVENT
DTSTART;TZID=UTC:20250723T180000
DTEND;TZID=UTC:20250723T190000
DTSTAMP:20260424T151316
CREATED:20250721T100354Z
LAST-MODIFIED:20250721T100354Z
UID:5290-1753293600-1753297200@colombocolts.lk
SUMMARY:05th Club Captain Meeting
DESCRIPTION:
URL:https://colombocolts.lk/event/05th-club-captain-meeting/
LOCATION:Boardroom
CATEGORIES:Meetings
END:VEVENT
END:VCALENDAR