BEGIN:VCALENDAR
VERSION:2.0
PRODID:-//Colombo Colts Cricket Club - ECPv5.9.1//NONSGML v1.0//EN
CALSCALE:GREGORIAN
METHOD:PUBLISH
X-WR-CALNAME:Colombo Colts Cricket Club
X-ORIGINAL-URL:https://colombocolts.lk
X-WR-CALDESC:Events for Colombo Colts Cricket Club
BEGIN:VTIMEZONE
TZID:UTC
BEGIN:STANDARD
TZOFFSETFROM:+0000
TZOFFSETTO:+0000
TZNAME:UTC
DTSTART:20250101T000000
END:STANDARD
END:VTIMEZONE
BEGIN:VEVENT
DTSTART;TZID=UTC:20250801T180000
DTEND;TZID=UTC:20250801T233000
DTSTAMP:20260421T140115
CREATED:20250721T101208Z
LAST-MODIFIED:20250721T101208Z
UID:5299-1754071200-1754091000@colombocolts.lk
SUMMARY:Cocktail Night
DESCRIPTION:
URL:https://colombocolts.lk/event/cocktail-night/
LOCATION:Bar & Restaurant
END:VEVENT
END:VCALENDAR