BEGIN:VCALENDAR
VERSION:2.0
PRODID:-//Colombo Colts Cricket Club - ECPv5.9.1//NONSGML v1.0//EN
CALSCALE:GREGORIAN
METHOD:PUBLISH
X-WR-CALNAME:Colombo Colts Cricket Club
X-ORIGINAL-URL:https://colombocolts.lk
X-WR-CALDESC:Events for Colombo Colts Cricket Club
BEGIN:VTIMEZONE
TZID:UTC
BEGIN:STANDARD
TZOFFSETFROM:+0000
TZOFFSETTO:+0000
TZNAME:UTC
DTSTART:20250101T000000
END:STANDARD
END:VTIMEZONE
BEGIN:VEVENT
DTSTART;TZID=UTC:20250722T180000
DTEND;TZID=UTC:20250722T233000
DTSTAMP:20260424T152250
CREATED:20250721T095731Z
LAST-MODIFIED:20250721T100624Z
UID:5288-1753207200-1753227000@colombocolts.lk
SUMMARY:Hopper Night
DESCRIPTION:
URL:https://colombocolts.lk/event/hopper-night/
LOCATION:Colts Ground
CATEGORIES:Food & Beverage
END:VEVENT
END:VCALENDAR