BEGIN:VCALENDAR
VERSION:2.0
PRODID:-//Colombo Colts Cricket Club - ECPv5.9.1//NONSGML v1.0//EN
CALSCALE:GREGORIAN
METHOD:PUBLISH
X-WR-CALNAME:Colombo Colts Cricket Club
X-ORIGINAL-URL:https://colombocolts.lk
X-WR-CALDESC:Events for Colombo Colts Cricket Club
BEGIN:VTIMEZONE
TZID:UTC
BEGIN:STANDARD
TZOFFSETFROM:+0000
TZOFFSETTO:+0000
TZNAME:UTC
DTSTART:20250101T000000
END:STANDARD
END:VTIMEZONE
BEGIN:VEVENT
DTSTART;TZID=UTC:20250709T090000
DTEND;TZID=UTC:20250709T180000
DTSTAMP:20260424T153849
CREATED:20250721T104332Z
LAST-MODIFIED:20250721T104332Z
UID:5305-1752051600-1752084000@colombocolts.lk
SUMMARY:Colts vs Nugegoda SWC Match - Major Clubs Limited Over Tournament
DESCRIPTION:
URL:https://colombocolts.lk/event/colts-vs-nugegoda-swc-match-major-clubs-limited-over-tournament/
LOCATION:Colts Ground
CATEGORIES:Club Cricket
END:VEVENT
END:VCALENDAR