BEGIN:VCALENDAR
VERSION:2.0
PRODID:-//Colombo Colts Cricket Club - ECPv5.9.1//NONSGML v1.0//EN
CALSCALE:GREGORIAN
METHOD:PUBLISH
X-WR-CALNAME:Colombo Colts Cricket Club
X-ORIGINAL-URL:https://colombocolts.lk
X-WR-CALDESC:Events for Colombo Colts Cricket Club
BEGIN:VTIMEZONE
TZID:UTC
BEGIN:STANDARD
TZOFFSETFROM:+0000
TZOFFSETTO:+0000
TZNAME:UTC
DTSTART:20250101T000000
END:STANDARD
END:VTIMEZONE
BEGIN:VEVENT
DTSTART;TZID=UTC:20250718T180000
DTEND;TZID=UTC:20250718T183000
DTSTAMP:20260424T153140
CREATED:20250721T104704Z
LAST-MODIFIED:20250721T104704Z
UID:5310-1752861600-1752863400@colombocolts.lk
SUMMARY:Special General Meeting
DESCRIPTION:Special General Meeting To consider and adopt amendments to the Constitution in compliance with the SLC – 18th July 2025
URL:https://colombocolts.lk/event/special-general-meeting/
LOCATION:Mathivanan Pavillian & Lounge
CATEGORIES:Meetings
END:VEVENT
BEGIN:VEVENT
DTSTART;TZID=UTC:20250718T180000
DTEND;TZID=UTC:20250718T233000
DTSTAMP:20260424T153140
CREATED:20250721T100840Z
LAST-MODIFIED:20250721T102044Z
UID:5297-1752861600-1752881400@colombocolts.lk
SUMMARY:Beers & Cheers
DESCRIPTION:Beer Night
URL:https://colombocolts.lk/event/beers-cheers/
LOCATION:Bar & Restaurant
CATEGORIES:Food & Beverage
END:VEVENT
END:VCALENDAR